BEGIN:VCALENDAR
VERSION:2.0
PRODID:-//Entering the Holy of Holies, Inc. - ECPv6.15.20//NONSGML v1.0//EN
CALSCALE:GREGORIAN
METHOD:PUBLISH
X-WR-CALNAME:Entering the Holy of Holies, Inc.
X-ORIGINAL-URL:https://ethoh.org
X-WR-CALDESC:Events for Entering the Holy of Holies, Inc.
REFRESH-INTERVAL;VALUE=DURATION:PT1H
X-Robots-Tag:noindex
X-PUBLISHED-TTL:PT1H
BEGIN:VTIMEZONE
TZID:UTC
BEGIN:STANDARD
TZOFFSETFROM:+0000
TZOFFSETTO:+0000
TZNAME:UTC
DTSTART:20220101T000000
END:STANDARD
END:VTIMEZONE
BEGIN:VEVENT
DTSTART;VALUE=DATE:20231203
DTEND;VALUE=DATE:20231204
DTSTAMP:20260423T182748
CREATED:20230109T191817Z
LAST-MODIFIED:20231125T112940Z
UID:5633-1701561600-1701647999@ethoh.org
SUMMARY:Winter Solstice Cleanse: Become Fearless and Free and Shine Your Beautiful Light On the World!
DESCRIPTION:Become Fearless and Free And Shine Your Beautiful Light On the World! Wednesday\, December 13th through Thursday\, December 21st. The required Orientation for participants in the Community Cleanse Package is: Sunday December 3\, 2023\, 1pm – 5pm. \nJoin us for our Winter Solstice Cleanse and immerse yourself in 9 days of purification and transformation as you discover and discard physical\, emotional and spiritual energy that no longer serves you. \nThe uniqueness of our Winter Solstice Cleanse is the Spirit\, Mind\, Body Whole-Body approach to detoxifying and purifying not only your physical body but also your emotional and spiritual bodies\, as well. \nThe Hallmark of all Entering the Holy of Holies Seasonal Cleanses is Meditation and Spiritual Tools for Transformation. Over the course of 9 days we will be eliminating our food intake until we are drinking only fresh fruit and vegetable juices\, but the real transformation will take place at the emotional/Spiritual level. If you value your whole body and are seeking to reset your Mind\, Body and Spirit then our Winter Solstice Cleanse is perfect for YOU! \nThroughout the Winter Solstice Cleanse we will purify our Kidneys and Seventh Chakra (Sanskrit for wheel)\, the energy center that is responsible for your destiny and connects you to the Divine. \nThis season we are offering four different Seasonal Cleanse packages for you to choose from: \n\nIndependent\nCommunity Cleanse\nCommunity Cleanse With One Wholistic Practitioner\nCommunity Groups of 10 People or More Please Contact ETHOH Directly.\n\nIndependent Package/$125\nThis option is for the individual who prefers to participate in the Seasonal Cleanse on his/her own and to move at their own pace without the guidance of Reverend Nafisa or a group. \nCommunity Package/$175\nThis option is for the individual who prefers to be in community with others throughout the entire 9-days of the Seasonal Cleanse. The benefits/requirements of the Community Cleanse Package are: \n\nRequired Attendance to the 4-Hour Orientation\nReceive Daily Emails to Support Your Healing Process\nAccess to the Seasonal Cleanse Prayer/WhatsApp/Text Groups\nTwo Additional Community Zoom Meetings With Reverend Nafisa\n\nCommunity Package With One Wholistic Practitioner/$250\nAll the benefits of the Community Seasonal Cleanse (above) apply to this option with the addition of your choice of seeing one Holistic Practitioner: Colon Hygienist\, Herbologist\, Nutritionist\, Massage/Physical Therapist or Reiki Practitioner. \nThe Cleanse 9-Day Process\nEvery two days we will eliminate a different food group from our diet:  meat\, dairy\, starches/carbohydrates\, until we are drinking only fresh fruit juices and fresh vegetable juices. On the final day of the Cleanse we will drink only the Master Cleanse (alkaline water\, cayenne pepper\, lemon\, and grade B Maple Syrup) to flush the remaining toxins out of our bodies. \nOur Daily Schedule Will Consist of the Following:\n– organic blend of Stinging Nettle (3 times a day)\n– 1 time-released probiotic pill (morning)\n– 2 gentle herbal laxative pills (at night)\n– meditation (live or online)\n– yoga (online)\n– relaxing baths\n– journaling \nEverything you need for a wonderful and successful Winter Solstice Cleanse will be beautifully packaged and sent to you (except food!) prior to the required orientation on Sunday\, December 3rd. Please be certain to supply ETHOH with your most current and up-to-date mailing address and phone number. \nEach Supply Bag will contain a tincture of organic Stinging Nettle\, a 10-day supply of a time-released probiotic\, a gentle herbal laxative\, bath and beauty products for bathing and cleansing the body\, White Mountain Sage\, sand\, and a smudge feather\, along with an extensive 35-page Handbook (all included in the fee) to guide each participant through every step of the Cleanse. Additionally\, each Community Cleanse participant will receive daily emails for encouragement and inspiration as well as direction on how to integrate the daily meditations and affirmations more deeply into their lives. \nThe Winter Solstice Cleanse will take place virtually. All Community Cleanse participants are asked to download the Zoom App (zoom.us) onto their computer\, phone\, or electronic device in order to receive the Zoom link and password and join the Cleanse orientation conference call on Sunday\, December 3rd at 1pm. To further support the participant’s healing process two additional Zoom Conference Calls have been scheduled during the Cleanse: \n\nSunday\, December 17th/7pm – 9pm/Zoom Check-In Conference Call (optional)\nFriday\, December 22nd/7pm – 9pm/ Zoom Follow-Up Conference Call (optional)\n\nSeasonal Cleanse Testimonials! \n \n “I Loved It! This was the BEST thing I ever did for myself. I wish it was longer.” \n“This was a life-changing experience. I’m glad I got to be part of an amazing journey.” \n“Thank You for organizing and presenting an amazing Spiritual\, Body\, Mind cleansing opportunity. \nImportant Winter Solstice Cleanse Information \nAll Cleanse participants must be at least 18 years old.\nRegistration for the Cleanse will close on Friday November 24th at 5pm.\nPayments made are Non-Refundable after Friday\, November 24\, 2023.\nAll participants (Except Independent Cleansers) must attend the Zoom orientation on Sunday\, December 3rd\, 1pm – 5pm. \nRegister For One of Our Packages Below! \n*At this time\, the Winter Solstice Cleanse is only being offered within the United States.\n*Due to inflation the cost of the Cleanse\, PayPal and the USPS Shipping Fees have increased. \nWinter Solstice Cleanse Packages \n\nIndependent Package $125 (Plus PayPal Service Fee and Shipping Fee)\nCommunity Cleanse Package $175 (Plus PayPal Service Fee and Shipping Fee)\nCommunity Cleanse With One Wholistic Practitioner $250 (Plus PayPal Service Fee and Shipping Fee)\nCommunity Groups of 10 People or More Please Contact ETHOH Directly.\n\nThank You for your interest in our Winter Solstice Cleanse. Registration is now closed. Please join us for our Spring Equinox Cleanse in 2024. Thank You.
URL:https://ethoh.org/event/winter-solstice-cleanse-2023/
LOCATION:Required Orientation: Sunday December 3\, 2023\, 1pm – 5pm.
CATEGORIES:Cleanse
END:VEVENT
END:VCALENDAR