BEGIN:VCALENDAR
VERSION:2.0
PRODID:-//Entering the Holy of Holies, Inc. - ECPv6.15.20//NONSGML v1.0//EN
CALSCALE:GREGORIAN
METHOD:PUBLISH
X-WR-CALNAME:Entering the Holy of Holies, Inc.
X-ORIGINAL-URL:https://ethoh.org
X-WR-CALDESC:Events for Entering the Holy of Holies, Inc.
REFRESH-INTERVAL;VALUE=DURATION:PT1H
X-Robots-Tag:noindex
X-PUBLISHED-TTL:PT1H
BEGIN:VTIMEZONE
TZID:UTC
BEGIN:STANDARD
TZOFFSETFROM:+0000
TZOFFSETTO:+0000
TZNAME:UTC
DTSTART:20230101T000000
END:STANDARD
END:VTIMEZONE
BEGIN:VEVENT
DTSTART;VALUE=DATE:20241203
DTEND;VALUE=DATE:20241204
DTSTAMP:20260419T211721
CREATED:20231227T195047Z
LAST-MODIFIED:20241202T121947Z
UID:6525-1733184000-1733270399@ethoh.org
SUMMARY:Giving Tuesday:  A Day Of Grace-Filled Giving!
DESCRIPTION:  \n\n  \nDecember 3\, 2024 is GIVING TUESDSAY\, the international day of GIVING to not-for-profit organizations like\, Entering the Holy of Holies\, An Institute of Learning and Healing\, Inc. \nThis year as we celebrate our 20TH ANNIVERSARY please give generously and support our mission to help people Heal Their Hearts and Recreate Their Lives In Love by making a TAX-DEDUCTIBLE DONATION today. \nSpread the news\, share widely\, and help Entering the Holy of Holies\, Inc. reach our goal of raising $2\,000 (or more!) in 24 hours. We can’t do it without YOU! \n  \n\n\n\n  \n  \n  \n    \n      \n        \n        Gift of Giving Donation\n      \n    \n    \n      \n        \n          \n            $20 + $1.23 =  $21.23 USD\n          \n          \n            $40 + $1.95 =  $41.95 USD\n          \n          \n            $60 + $2.68 =  $62.68 USD\n          \n          \n            $80 + $3.40 =  $83.40 USD\n          \n          \n            $100 + $4.12 =  $104.12 USD\n          \n          \n            $200 + $7.74 =  $207.74 USD\n          \n          \n            $2\,000 + $72.83 =  $2\,072.83 USD\n          \n          \n            $4\,000 + $145.16 =  $4\,145.16 USD\n          \n          \n            $10\,000 + $362.13 =  $10\,362.13 USD\n          \n          \n            $20\,000 + $723.75 =  $20\,723.75 USD\n          \n        \n      \n    \n  \n    \n    \n  \n\n\n 
URL:https://ethoh.org/event/giving-tuesday-2024/
CATEGORIES:Giving Tuesday,Healing Arts,Spiritual,Virtual Fundraiser
END:VEVENT
END:VCALENDAR