BEGIN:VCALENDAR
VERSION:2.0
PRODID:-//Entering the Holy of Holies, Inc. - ECPv6.15.20//NONSGML v1.0//EN
CALSCALE:GREGORIAN
METHOD:PUBLISH
X-ORIGINAL-URL:https://ethoh.org
X-WR-CALDESC:Events for Entering the Holy of Holies, Inc.
REFRESH-INTERVAL;VALUE=DURATION:PT1H
X-Robots-Tag:noindex
X-PUBLISHED-TTL:PT1H
BEGIN:VTIMEZONE
TZID:UTC
BEGIN:STANDARD
TZOFFSETFROM:+0000
TZOFFSETTO:+0000
TZNAME:UTC
DTSTART:20210101T000000
END:STANDARD
END:VTIMEZONE
BEGIN:VEVENT
DTSTART;VALUE=DATE:20220801
DTEND;VALUE=DATE:20220901
DTSTAMP:20260422T114316
CREATED:20220730T180854Z
LAST-MODIFIED:20220731T225540Z
UID:5088-1659312000-1661990399@ethoh.org
SUMMARY:Reiki Summer Special with Reverend Nafisa
DESCRIPTION:  \n$10 Off All 50 Minute Reiki Sessions! \nAugust 1 – August 31\, 2022 \nReiki (Ray-Key)\, a Japanese word that means “Universal Life Force Energy” is a very gentle and relaxing hands-on healing technique that balances and attunes the energy fields of the body to the highest vibrations of Love and Light while removing blockages from the seven main energy centers within the body known as\, chakras (Sanskrit for wheel). \nChakras are energy centers within the human subtle body that are comprised of thousands of nerve endings that converge to a point\, like spokes on a wheel\, to form a vortex or portal that allows or disallows energy to flow throughout the body. When the chakras are “clear/open” energy flows freely and effortlessly\, allowing for optimal health and vitality in an individual’s life. When the chakras are “clogged/closed” energy cannot flow so easily\, often causing pain\, discomfort\, and disease. \nReiki is not a replacement for medical treatment and does not claim to cure diseases. However\, it is a powerful healing technique that activates the body’s natural ability to clear energetic blockages that are caused by stress and repressed emotional energy. Once the body is free from blockages it can then begin the process of naturally healing itself. \n \n\nWhat Are the Benefits of A Reiki Attunement? \n\n Induces Deep Relaxation\n Releases Stress and Anxiety\n Promotes Peace and Tranquility\n Harmonizes Your Mind\, Body and Spirit\n\nHow Do I Prepare For My In-Person Reiki Attunement? \n\nWear loose comfortable clothing that is not restrictive in any way.\nEat a light meal and drink plenty of water at least one hour before your session.\nArrive at your session 15 minutes early so you are comfortable and relaxed before your session begins.\nTurn off all electronic devices (phone/computer) so you are not disturbed or distracted during your session.\n\nWhat Should I Expect During My Reiki Attunement? \nYour Reiki Attunement will last for 50 minutes. During that time you will lay on a massage table\, fully clothed. First\, faced down\, and then\, face up. \nYour session will begin with a “sound bath” using tuning forks to begin centering\, balancing\, and grounding your energy at a cellular level.  You then will be led through a guided visualization meditation where you will have the opportunity to focus on your breath\, relax and declare your intention for healing during your Reiki Attunement. \nAs the practitioner places their hands above (and sometimes on) your body you will experience the flow of Universal Life Force Energy – Reiki – in the form of heat. This is usually very relaxing and most people fall asleep! \nWhat Should I Do After My Reiki Attunement? \nAfter your Reiki Attunement\, it is strongly advised that you drink plenty of water and eat a light meal to assist with grounding your energy. Give yourself time to move slowly and integrate your Reiki experience. You may want to keep your journal handy so you can record your experience. Make a conscious effort to maintain the feelings of Peace and Relaxation you felt during your Reiki Attunement throughout your day. \n \nPurchase Your $90 Reiki Attunement For Only $80 Today!\nThis Special Ends Wednesday\, August 31\, 2022.
URL:https://ethoh.org/event/reiki-summer-special-with-reverend-nafisa/
CATEGORIES:Healing Arts,Reiki
END:VEVENT
END:VCALENDAR