BEGIN:VCALENDAR
VERSION:2.0
PRODID:-//Entering the Holy of Holies, Inc. - ECPv6.15.20//NONSGML v1.0//EN
CALSCALE:GREGORIAN
METHOD:PUBLISH
X-WR-CALNAME:Entering the Holy of Holies, Inc.
X-ORIGINAL-URL:https://ethoh.org
X-WR-CALDESC:Events for Entering the Holy of Holies, Inc.
REFRESH-INTERVAL;VALUE=DURATION:PT1H
X-Robots-Tag:noindex
X-PUBLISHED-TTL:PT1H
BEGIN:VTIMEZONE
TZID:UTC
BEGIN:STANDARD
TZOFFSETFROM:+0000
TZOFFSETTO:+0000
TZNAME:UTC
DTSTART:20190101T000000
END:STANDARD
END:VTIMEZONE
BEGIN:VEVENT
DTSTART;TZID=UTC:20201216T180000
DTEND;TZID=UTC:20201216T210000
DTSTAMP:20260423T174000
CREATED:20200102T024925Z
LAST-MODIFIED:20200731T204827Z
UID:2458-1608141600-1608152400@ethoh.org
SUMMARY:Dancing Into the Light
DESCRIPTION:Dancing Into the Light Wednesday\, December 16\, 2020; Countee Cullen/PS 194\, 244 W. 144th Street\, New York\, NY 10030; 6:00pm – 9:00pm; FREE! \nJoin us for  an amazing traditional West African dance class that celebrates five of the Holy-days and Festivals of Light: Christmas\, Kwanzaa\, Chanukah\, Three Kings Day and Diwali. \nEnjoy free food and live musicians as we Meditate\, Celebrate and Dance Into the Light! \nClass is Free and open to the entire family!
URL:https://ethoh.org/event/dancing-into-the-light/
LOCATION:El Barrio’s Artspace PS 109\, 215 East 99th Street\, New York\, NY\, 10029\, United States
CATEGORIES:DITL
END:VEVENT
END:VCALENDAR