BEGIN:VCALENDAR
VERSION:2.0
PRODID:-//Entering the Holy of Holies, Inc. - ECPv6.15.20//NONSGML v1.0//EN
CALSCALE:GREGORIAN
METHOD:PUBLISH
X-ORIGINAL-URL:https://ethoh.org
X-WR-CALDESC:Events for Entering the Holy of Holies, Inc.
REFRESH-INTERVAL;VALUE=DURATION:PT1H
X-Robots-Tag:noindex
X-PUBLISHED-TTL:PT1H
BEGIN:VTIMEZONE
TZID:UTC
BEGIN:STANDARD
TZOFFSETFROM:+0000
TZOFFSETTO:+0000
TZNAME:UTC
DTSTART:20230101T000000
END:STANDARD
END:VTIMEZONE
BEGIN:VEVENT
DTSTART;VALUE=DATE:20240714
DTEND;VALUE=DATE:20240819
DTSTAMP:20260420T063713
CREATED:20240630T232500Z
LAST-MODIFIED:20240703T012111Z
UID:7589-1720915200-1724025599@ethoh.org
SUMMARY:We're Back! Harlem Grown's Culture\, Creativity & Care\, Free West African Dance Classes in Marcus Garvey Park!
DESCRIPTION:We’re Back! Join Reverend Nafisa Sharriff for FREE traditional West African dance Classes in Marcus Garvey Park (123rd Street and Madison Avenue on the lawn) this Summer as part of Harlem Grown’s Culture\, Creativity & Care Initiative\, sponsored by The Mellon Foundation. \nCome dance the folklore of the Old Malian Empire to LIVE Drums and celebrate the richness of our culture and community every Sunday beginning July 14th and continuing through Sunday\, August 18th! All classes are FREE and open to the entire community! \nNo Registration Necessary. Simply show up and plan to have a good time. All Are Welcome! \nDANCE CLASS SCHEDULE\nJULY:  14th\, 21st\, 28th\nAUGUST:  4th\, 11th\, 18th \nIMPORTANT CLASS INFORMATION\nClass Time: 1pm – 3pm/EST\nClass is outdoors on the grass: Bring a blanket/mat to sit on.\nBring lots of water to stay hydrated.\nMust sign a Release Form for use of pictures & video.\nClass is canceled if it rains. Rain dates will be announced. \n  \nThese classes are being sponsored by Harlem Grown and The Mellon Foundation. \n\n\n\n\n  \n  \n  \n    \n      \n        \n        Gift of Giving Donation\n      \n    \n    \n      \n        \n          \n            $20 + $1.23 =  $21.23 USD\n          \n          \n            $40 + $1.95 =  $41.95 USD\n          \n          \n            $60 + $2.68 =  $62.68 USD\n          \n          \n            $80 + $3.40 =  $83.40 USD\n          \n          \n            $100 + $4.12 =  $104.12 USD\n          \n          \n            $200 + $7.74 =  $207.74 USD\n          \n          \n            $2\,000 + $72.83 =  $2\,072.83 USD\n          \n          \n            $4\,000 + $145.16 =  $4\,145.16 USD\n          \n          \n            $10\,000 + $362.13 =  $10\,362.13 USD\n          \n          \n            $20\,000 + $723.75 =  $20\,723.75 USD\n          \n        \n      \n    \n  \n    \n    \n  \n\n\n 
URL:https://ethoh.org/event/harlem-growns-culture-creativity-and-care-free-african-dance-classes-in-marcus-garvey-park-2024/
LOCATION:Marcus Garvey Park (E. 123rd Street and Madison Avenue)
CATEGORIES:African Dance,Dance Class
END:VEVENT
END:VCALENDAR