BEGIN:VCALENDAR
VERSION:2.0
PRODID:-//Entering the Holy of Holies, Inc. - ECPv6.15.20//NONSGML v1.0//EN
CALSCALE:GREGORIAN
METHOD:PUBLISH
X-ORIGINAL-URL:https://ethoh.org
X-WR-CALDESC:Events for Entering the Holy of Holies, Inc.
REFRESH-INTERVAL;VALUE=DURATION:PT1H
X-Robots-Tag:noindex
X-PUBLISHED-TTL:PT1H
BEGIN:VTIMEZONE
TZID:UTC
BEGIN:STANDARD
TZOFFSETFROM:+0000
TZOFFSETTO:+0000
TZNAME:UTC
DTSTART:20220101T000000
END:STANDARD
END:VTIMEZONE
BEGIN:VEVENT
DTSTART;VALUE=DATE:20230709
DTEND;VALUE=DATE:20230821
DTSTAMP:20260421T021144
CREATED:20230701T004508Z
LAST-MODIFIED:20230730T114620Z
UID:6117-1688860800-1692575999@ethoh.org
SUMMARY:Harlem Grown's Culture\, Creativity and Care Free African Dance Classes in Marcus Garvey Park
DESCRIPTION:Join Reverend Nafisa Sharriff for FREE traditional West African dance Classes in Marcus Garvey Park (123rd Street and Madison Avenue on the lawn) this Summer as part of Harlem Grown’s Culture\, Creativity & Care Initiative\, sponsored by The Mellon Foundation. \nCome dance the folklore of the Old Malian Empire to LIVE drums and celebrate the richness of our culture and community every Sunday beginning July 9th and continuing through Sunday\, August 20th! All classes are FREE and open to the entire community! \nNo registration necessary. Simply show up and plan to have a good time. All Are Welcome! \nDANCE CLASS SCHEDULE\nJULY:  9th\, 16th\, 23rd\, 30th\nAUGUST:  6th\, 13th\, 20th \nImportant Class Information\nClass Time: 1pm – 3pm/EST\nClass is outdoors on the grass: Bring a blanket/mat to sit on.\nBring lots of water to stay hydrated.\nMust sign a Release Form for use of pictures & video.\nClass is canceled if it rains. There is no rain date. \n  \nThese classes are being sponsored by Harlem Grown and The Mellon Foundation.
URL:https://ethoh.org/event/harlem-growns-marcus-garvey-park/
LOCATION:Marcus Garvey Park (E. 123rd Street and Madison Avenue)
CATEGORIES:African Dance,Dance Class
END:VEVENT
END:VCALENDAR