BEGIN:VCALENDAR
VERSION:2.0
PRODID:-//Entering the Holy of Holies, Inc. - ECPv6.15.20//NONSGML v1.0//EN
CALSCALE:GREGORIAN
METHOD:PUBLISH
X-WR-CALNAME:Entering the Holy of Holies, Inc.
X-ORIGINAL-URL:https://ethoh.org
X-WR-CALDESC:Events for Entering the Holy of Holies, Inc.
REFRESH-INTERVAL;VALUE=DURATION:PT1H
X-Robots-Tag:noindex
X-PUBLISHED-TTL:PT1H
BEGIN:VTIMEZONE
TZID:UTC
BEGIN:STANDARD
TZOFFSETFROM:+0000
TZOFFSETTO:+0000
TZNAME:UTC
DTSTART:20210101T000000
END:STANDARD
END:VTIMEZONE
BEGIN:VEVENT
DTSTART;VALUE=DATE:20220122
DTEND;VALUE=DATE:20220123
DTSTAMP:20260423T015921
CREATED:20211230T003142Z
LAST-MODIFIED:20211230T004601Z
UID:4524-1642809600-1642895999@ethoh.org
SUMMARY:Reverend Nafisa's Birthday Dance Class!
DESCRIPTION:Saturday\, January 22\, 2022 \n6:00pm – 7:30pm | FREE!\n \n  \nWear Your Favorite African Dance Class Outfit! \n  \n  \n  \n  \n  \n  \n  \n  \n  \n  \n  \nBring a Glass of Sparkling Apple Cider! \n  \n  \n  \n  \n  \n  \n  \n  \n  \n  \n  \nBring a slice of cake\, or a cupcake (chocolate of course – smile!)   \n  \nLet’s Toast and Celebrate My Birthday! \n \n  \nJoin My Zoom Birthday Dance Class:  \nhttps://us02web.zoom.us/j/85187816717?pwd=OUZrUEJSUmRkTjYxdVl6VE40T3Jhdz09 \nMeeting ID: 851 8781 6717\nPasscode: 848567
URL:https://ethoh.org/event/reverend-nafisas-birthday-dance-class-2022/
LOCATION:Participation via Zoom
CATEGORIES:Dance Class
END:VEVENT
END:VCALENDAR